BEGIN:VCALENDAR
VERSION:2.0
PRODID:-//ChamberMaster//Event Calendar 2.0//EN
METHOD:PUBLISH
X-PUBLISHED-TTL:P3D
REFRESH-INTERVAL:P3D
CALSCALE:GREGORIAN
BEGIN:VEVENT
DTSTART:20220608T200000Z
DTEND:20220615T230000Z
X-MICROSOFT-CDO-ALLDAYEVENT:FALSE
SUMMARY:Understanding Conflict Training
DESCRIPTION:Understanding Conflict Training Offered quarterly\, this six- hour workshop focuses on communication and conflict resolution skills applicable to home\, community\, and work. Participants will learn to listen actively and assert their needs\, understand their response to conflict\, and to communicate effectively in high-stress situations.??Next workshops:   June 8th & 15th\, 2022\, 1:00 PM-4:00 PM (online/virtual)??Course Fee: $95 ?Group Discount: Register a group of 3 or more people to qualify for a 10% discount
X-ALT-DESC;FMTTYPE=text/html:Understanding Conflict Training Offered quarterly\, this six- hour workshop focuses on communication and conflict resolution skills applicable to home\, community\, and work. Participants will learn to listen actively and assert their needs\, understand their response to conflict\, and to communicate effectively in high-stress situations.??Next workshops: &bull\; June 8th &amp\; 15th\, 2022\, 1:00 PM-4:00 PM (online/virtual)??Course Fee: $95 ?Group Discount: Register a group of 3 or more people to qualify for a 10% discount
LOCATION:Online/Virtual
UID:e.2362.10694
SEQUENCE:3
DTSTAMP:20260421T032832Z
URL:http://ferndalechamber.chambermaster.com/events/details/understanding-conflict-training-10694
END:VEVENT

END:VCALENDAR
