BEGIN:VCALENDAR
VERSION:2.0
PRODID:-//ChamberMaster//Event Calendar 2.0//EN
METHOD:PUBLISH
X-PUBLISHED-TTL:P3D
REFRESH-INTERVAL:P3D
CALSCALE:GREGORIAN
BEGIN:VEVENT
DTSTART;VALUE=DATE:20210911
DTEND;VALUE=DATE:20210920
TRANSP:TRANSPARENT
X-MICROSOFT-CDO-ALLDAYEVENT:TRUE
SUMMARY:Whatcom Water Week
DESCRIPTION:A week long series of free events celebrating our local water resources. Events include SeaFeast\, Run with the Chums 5k\, beach clean ups\, water treatment plant tours\, Fish Trivia\, educational kids events\, self-guided walks and tours\, photo contest\, and so much more! For a full list of events visit WhatcomWaterWeeks.org
X-ALT-DESC;FMTTYPE=text/html:A week long series of free events celebrating our local water resources. Events include SeaFeast\, Run with the Chums 5k\, beach clean ups\, water treatment plant tours\, Fish Trivia\, educational kids events\, self-guided walks and tours\, photo contest\, and so much more! For a full list of events visit WhatcomWaterWeeks.org
LOCATION:Throughout Whatcom
UID:e.2362.10641
SEQUENCE:3
DTSTAMP:20260420T193137Z
URL:http://ferndalechamber.chambermaster.com/events/details/whatcom-water-week-10641
END:VEVENT

END:VCALENDAR
